BEGIN:VCALENDAR
VERSION:2.0
PRODID:-//Interventionistische Linke Heidelberg - ECPv6.15.20//NONSGML v1.0//EN
CALSCALE:GREGORIAN
METHOD:PUBLISH
X-ORIGINAL-URL:https://www.akutplusc.org
X-WR-CALDESC:Events for Interventionistische Linke Heidelberg
REFRESH-INTERVAL;VALUE=DURATION:PT1H
X-Robots-Tag:noindex
X-PUBLISHED-TTL:PT1H
BEGIN:VTIMEZONE
TZID:Europe/Prague
BEGIN:DAYLIGHT
TZOFFSETFROM:+0100
TZOFFSETTO:+0200
TZNAME:CEST
DTSTART:20250330T010000
END:DAYLIGHT
BEGIN:STANDARD
TZOFFSETFROM:+0200
TZOFFSETTO:+0100
TZNAME:CET
DTSTART:20251026T010000
END:STANDARD
BEGIN:DAYLIGHT
TZOFFSETFROM:+0100
TZOFFSETTO:+0200
TZNAME:CEST
DTSTART:20260329T010000
END:DAYLIGHT
BEGIN:STANDARD
TZOFFSETFROM:+0200
TZOFFSETTO:+0100
TZNAME:CET
DTSTART:20261025T010000
END:STANDARD
BEGIN:DAYLIGHT
TZOFFSETFROM:+0100
TZOFFSETTO:+0200
TZNAME:CEST
DTSTART:20270328T010000
END:DAYLIGHT
BEGIN:STANDARD
TZOFFSETFROM:+0200
TZOFFSETTO:+0100
TZNAME:CET
DTSTART:20271031T010000
END:STANDARD
END:VTIMEZONE
BEGIN:VEVENT
DTSTART;TZID=Europe/Prague:20260515T190000
DTEND;TZID=Europe/Prague:20260515T230000
DTSTAMP:20260423T121629
CREATED:20260210T113123Z
LAST-MODIFIED:20260210T113750Z
UID:2824-1778871600-1778886000@www.akutplusc.org
SUMMARY:IL Keipe zu Zivilem Ungehorsam
DESCRIPTION:Kurz vor der Ende Gelände-Aktion beleuchten wir die Theorie und Geschichte des zivilen Ungehorsams – von Gandhi bis heute. Warum ist die gezielte Unterbrechung des Normalbetriebs ein legitimes und notwendiges Mittel im Kampf für Klimagerechtigkeit und gegen Faschismus? Inwiefern ist der Zivile Ungehorsam derzeit effektiv und strategisch klug? Wir diskutieren unsere Haltung und bereiten uns gedanklich auf die Massenblockade gegen den Gasausbau und den Widerstand gegen den AfD-Parteitag vor.
URL:https://www.akutplusc.org/event/il-keipe-zu-zivilem-ungehorsam/
LOCATION:Rabatz\, Rheinstraße 4\, Heidelberg\, 69115\, Germany
CATEGORIES:Kneipe
ORGANIZER;CN="IL Heidelberg":MAILTO:kontakt@akutplusc.org
END:VEVENT
BEGIN:VEVENT
DTSTART;TZID=Europe/Prague:20260528T000000
DTEND;TZID=Europe/Prague:20260530T235959
DTSTAMP:20260423T121629
CREATED:20260210T115804Z
LAST-MODIFIED:20260210T115804Z
UID:2834-1779926400-1780185599@www.akutplusc.org
SUMMARY:Ende Gelände Massenaktion
DESCRIPTION:Aktuell plant die Bundesregierung – mitten in der Klimakrise  den Bau von 20 neuen Gaskraftwerken. Das ist ein übeles Klimaverbrechen\, den Gas ist genauso dreckig wie Öl und Kohle. Lasst uns der vorranschreitenden Ungerechtigkeit entgegentreten. Lasst uns gemeinsam kämpfen für und mit all denjenigen\, die mit und unter der menschenfeindlichen und profitgesteerten Politik der Bundesregierung leiden. Für uns alle\, die es satthaben\, das unsere Lebensgrundlage für den Profit von Wenigen zerstört werden. \nWir nehmen den Gasausstieg selbst in die Hand!
URL:https://www.akutplusc.org/event/ende-gelande-massenaktion/
CATEGORIES:Massenaktion
ATTACH;FMTTYPE=image/png:https://www.akutplusc.org/wp-content/uploads/2026/02/Screenshot-2026-02-10-12.52.19-e1770724650806.png
END:VEVENT
BEGIN:VEVENT
DTSTART;TZID=Europe/Prague:20260619T190000
DTEND;TZID=Europe/Prague:20260619T230000
DTSTAMP:20260423T121629
CREATED:20260210T113246Z
LAST-MODIFIED:20260210T113246Z
UID:2826-1781895600-1781910000@www.akutplusc.org
SUMMARY:IL Kneipe zur Identitären Bewegung
DESCRIPTION:Wir analysieren die Identitäre Bewegung als avantgardistische Speerspitze der Neuen Rechten: ihre völkische Ideologie\, ihre moderne Inszenierung und ihre internationale Vernetzung. Dieser Abend dient der politischen Schärfung und Motivation für den unmittelbar bevorstehenden Konflikt: die Intervention gegen den AfD-Bundesparteitag.
URL:https://www.akutplusc.org/event/il-kneipe-zur-identitaren-bewegung/
LOCATION:Rabatz\, Rheinstraße 4\, Heidelberg\, 69115\, Germany
ORGANIZER;CN="IL Heidelberg":MAILTO:kontakt@akutplusc.org
END:VEVENT
BEGIN:VEVENT
DTSTART;TZID=Europe/Prague:20260717T190000
DTEND;TZID=Europe/Prague:20260717T230000
DTSTAMP:20260423T121629
CREATED:20260210T113456Z
LAST-MODIFIED:20260210T113456Z
UID:2828-1784314800-1784329200@www.akutplusc.org
SUMMARY:IL Kneipe Social Only
DESCRIPTION:Nach den intensiven Monaten der Analyse\, Vorbereitung und Aktion schaffen wir einen Raum zum gemeinsamen Ausatmen\, Reflektieren und Feiern. Ohne festes Programm\, aber mit viel Raum für Austausch\, Vernetzung und das Stärken unserer solidarischen Bindungen. Ein entspannter Ausklang des ersten Halbjahrs und ein Auftakt für alles\, was noch kommt.
URL:https://www.akutplusc.org/event/il-kneipe-social-only/
LOCATION:Rabatz\, Rheinstraße 4\, Heidelberg\, 69115\, Germany
CATEGORIES:Kneipe
ORGANIZER;CN="IL Heidelberg":MAILTO:kontakt@akutplusc.org
END:VEVENT
END:VCALENDAR