BEGIN:VCALENDAR
VERSION:2.0
PRODID:-//Interventionistische Linke Heidelberg - ECPv6.15.20//NONSGML v1.0//EN
CALSCALE:GREGORIAN
METHOD:PUBLISH
X-ORIGINAL-URL:https://www.akutplusc.org
X-WR-CALDESC:Events for Interventionistische Linke Heidelberg
REFRESH-INTERVAL;VALUE=DURATION:PT1H
X-Robots-Tag:noindex
X-PUBLISHED-TTL:PT1H
BEGIN:VTIMEZONE
TZID:Europe/Prague
BEGIN:DAYLIGHT
TZOFFSETFROM:+0100
TZOFFSETTO:+0200
TZNAME:CEST
DTSTART:20250330T010000
END:DAYLIGHT
BEGIN:STANDARD
TZOFFSETFROM:+0200
TZOFFSETTO:+0100
TZNAME:CET
DTSTART:20251026T010000
END:STANDARD
BEGIN:DAYLIGHT
TZOFFSETFROM:+0100
TZOFFSETTO:+0200
TZNAME:CEST
DTSTART:20260329T010000
END:DAYLIGHT
BEGIN:STANDARD
TZOFFSETFROM:+0200
TZOFFSETTO:+0100
TZNAME:CET
DTSTART:20261025T010000
END:STANDARD
BEGIN:DAYLIGHT
TZOFFSETFROM:+0100
TZOFFSETTO:+0200
TZNAME:CEST
DTSTART:20270328T010000
END:DAYLIGHT
BEGIN:STANDARD
TZOFFSETFROM:+0200
TZOFFSETTO:+0100
TZNAME:CET
DTSTART:20271031T010000
END:STANDARD
END:VTIMEZONE
BEGIN:VEVENT
DTSTART;TZID=Europe/Prague:20260417T190000
DTEND;TZID=Europe/Prague:20260417T230000
DTSTAMP:20260423T140600
CREATED:20260210T112830Z
LAST-MODIFIED:20260210T113628Z
UID:2822-1776452400-1776466800@www.akutplusc.org
SUMMARY:IL Kneipe zu Post-autonomer Praxis
DESCRIPTION:Die Antwort auf komplexe Herrschaft ist keine einfache – sondern braucht kluge Organisierung. Wir arbeiten post-autonom\, aber was bedeutet das überhaupt und insbesondere für uns in Heidelberg? Inwiefern ist es möglich in breiten gesellschaftlichen Bündnissen wirken\, ohne unsere radikale Kritik zu verwässern? In einem Panel mit Aktiven aus anderen Strömungen diskutieren wir unterschiedliche Wege\, linksradikal Politik zu machen.
URL:https://www.akutplusc.org/event/il-kneipe-zu-post-autonomer-praxis/
LOCATION:Rabatz\, Rheinstraße 4\, Heidelberg\, 69115\, Germany
CATEGORIES:Kneipe
ORGANIZER;CN="IL Heidelberg":MAILTO:kontakt@akutplusc.org
END:VEVENT
BEGIN:VEVENT
DTSTART;TZID=Europe/Prague:20260320T190000
DTEND;TZID=Europe/Prague:20260320T220000
DTSTAMP:20260423T140600
CREATED:20260210T112644Z
LAST-MODIFIED:20260210T113605Z
UID:2820-1774033200-1774044000@www.akutplusc.org
SUMMARY:IL Kneipe zu Tech-Faschismus
DESCRIPTION:Wir analysieren die gefährliche Allianz von Tech-Millionären (wie Peter Thiel)\, Militärs und faschistischen Bewegungen. Wie werden KI\, Überwachung und digitale Plattformen als neue Herrschaftsinstrumente genutzt?
URL:https://www.akutplusc.org/event/il-kneipe-zu-tech-faschismus/
LOCATION:Rabatz\, Rheinstraße 4\, Heidelberg\, 69115\, Germany
CATEGORIES:Kneipe
ORGANIZER;CN="IL Heidelberg":MAILTO:kontakt@akutplusc.org
END:VEVENT
BEGIN:VEVENT
DTSTART;TZID=Europe/Prague:20260220T190000
DTEND;TZID=Europe/Prague:20260220T220000
DTSTAMP:20260423T140600
CREATED:20260210T112421Z
LAST-MODIFIED:20260210T114219Z
UID:2816-1771614000-1771624800@www.akutplusc.org
SUMMARY:IL Kneipe zu Vergesellschaftung
DESCRIPTION:Wir starten den Abend mit einem kurzen Input zum Thema Vergesellschaftung. Anschließend wollen wir diskutieren und bei kühlen Getränken und Musik Quatschen. Komm gerne vorbei um herreinzuschuppern\, dich zu vernetzen\, zu diskutieren und gemütlich gemeinsam Zeit zu verbringen.
URL:https://www.akutplusc.org/event/il-kneipe-zu-vergesellschaftung/
LOCATION:Rabatz\, Rheinstraße 4\, Heidelberg\, 69115\, Germany
CATEGORIES:Kneipe
ATTACH;FMTTYPE=image/png:https://www.akutplusc.org/wp-content/uploads/2026/01/Save_Date_Kneipe_20-02-26-e1770723726651.png
ORGANIZER;CN="IL Heidelberg":MAILTO:kontakt@akutplusc.org
END:VEVENT
END:VCALENDAR