BEGIN:VCALENDAR
VERSION:2.0
PRODID:-//Interventionistische Linke Heidelberg - ECPv6.15.20//NONSGML v1.0//EN
CALSCALE:GREGORIAN
METHOD:PUBLISH
X-WR-CALNAME:Interventionistische Linke Heidelberg
X-ORIGINAL-URL:https://www.akutplusc.org
X-WR-CALDESC:Events for Interventionistische Linke Heidelberg
REFRESH-INTERVAL;VALUE=DURATION:PT1H
X-Robots-Tag:noindex
X-PUBLISHED-TTL:PT1H
BEGIN:VTIMEZONE
TZID:Europe/Prague
BEGIN:DAYLIGHT
TZOFFSETFROM:+0100
TZOFFSETTO:+0200
TZNAME:CEST
DTSTART:20250330T010000
END:DAYLIGHT
BEGIN:STANDARD
TZOFFSETFROM:+0200
TZOFFSETTO:+0100
TZNAME:CET
DTSTART:20251026T010000
END:STANDARD
BEGIN:DAYLIGHT
TZOFFSETFROM:+0100
TZOFFSETTO:+0200
TZNAME:CEST
DTSTART:20260329T010000
END:DAYLIGHT
BEGIN:STANDARD
TZOFFSETFROM:+0200
TZOFFSETTO:+0100
TZNAME:CET
DTSTART:20261025T010000
END:STANDARD
BEGIN:DAYLIGHT
TZOFFSETFROM:+0100
TZOFFSETTO:+0200
TZNAME:CEST
DTSTART:20270328T010000
END:DAYLIGHT
BEGIN:STANDARD
TZOFFSETFROM:+0200
TZOFFSETTO:+0100
TZNAME:CET
DTSTART:20271031T010000
END:STANDARD
END:VTIMEZONE
BEGIN:VEVENT
DTSTART;TZID=Europe/Prague:20260308T130000
DTEND;TZID=Europe/Prague:20260308T150000
DTSTAMP:20260423T191458
CREATED:20260218T131653Z
LAST-MODIFIED:20260218T131653Z
UID:2915-1772974800-1772982000@www.akutplusc.org
SUMMARY:Demo: Queer Feministischer Kampftag
DESCRIPTION:Wir rufen auf zur Demonstration am queerfeministischen Kampftag! \n🗓️ 8. März\n🕐 13:00 Uhr\n📍 Karlsplatz\, Heidelberg Altstadt \nAls klassenkämpferische Queerfeminist*innen gehen wir am 8. März entschlossen auf die Straße! Gemeinsam kämpfen wir mit allen Menschen\, die im Patriarchat unterdrückt werden und patriarchale Gewalt erleben. Unser Feminismus ist intersektional: Menschen\, die von Rassismus\, Queerfeindlichkeit\, Ableismus und anderen Diskriminierungsformen betroffen sind\, sind Teil unserer feministischen Kämpfe. \nEin Staat\, der für Ehe\, Kleinfamilie und Vaterland steht\, wird uns nicht befreien! Diese Befreiung kann nur durch uns selbst erfolgen. Als Feminist*innen müssen wir die Systemfrage stellen und Gegenmacht von unten aufbauen. Deshalb lautet unser Motto am Tag der Landtagswahlen: Queerfeministischer Kampftag – gemeinsam wählen wir die Straße! \nCommunity Space im Anschluss an die Demonstration – Schöpft gemeinsam mit uns neue Kraft für weitere Kämpfe: \n🗓️ 8. März\n🕐 ab 15:00 Uhr\, open End. Kommt gerne jederzeit dazu!\n📍 Rabatz\, John-Zenger-Str. 4\, Heidelberg \n🍝 den ganzen Zeitraum über gibt es Snacks und kaltes Essen. Um 19:00 Uhr gibt es warme Küfa (Küche für alle) gegen Spende.\n🕠 17:30 Uhr: Input zum Thema „Mackerfrei kämpfen“\n🎨📚 Büchertisch vom unromantischem Lesekreis\n💜 Awareness-Team und Rückzugsraum \nBildet Banden!
URL:https://www.akutplusc.org/event/demo-queer-feministischer-kampftag/
LOCATION:Karlsplatz\, Karlsplatz\, Heidelberg\, 69117\, Germany
CATEGORIES:Demo
ATTACH;FMTTYPE=image/jpeg:https://www.akutplusc.org/wp-content/uploads/2026/02/image-e1771420376839.jpeg
END:VEVENT
BEGIN:VEVENT
DTSTART;TZID=Europe/Prague:20260307T150000
DTEND;TZID=Europe/Prague:20260307T170000
DTSTAMP:20260423T191458
CREATED:20260210T165607Z
LAST-MODIFIED:20260210T165607Z
UID:2867-1772895600-1772902800@www.akutplusc.org
SUMMARY:Demo: Aufstand für Anstand
DESCRIPTION:Im März sind Landtagswahlen – und wir sagen klar: Den Rechtsruck machen wir nicht mit! Darum gehen wir am Tag vor der Landtagswahl auf die Straße. Laut. Sichtbar. Gemeinsam. Hoffentlich (wieder einmal) mit Tausenden.  \nWir machen einen Aufstand für Anstand.\nWir – das bist Du. Das seid ihr. Bündnisse gegen Rechts\, Initiativen gegen soziale Kürzungen\, Organisationen\, die sich für Schutz\, Empowerment und Zusammenhalt einsetzen\, Menschen\, die sich tagtäglich für Menschenwürde und gesellschaftlichen Zusammenhalt einsetzen. 🧡 \n🗓 Wann? Samstag\, 7. März 2026 ab 13 Uhr\n📍 Wo? Stadtbücherei / Schwanenteichanlage\, Heidelberg\n➡️ Demoroute: Stadtbücherei → Universitätsplatz \nAm Tag vor der Landtagswahl sagen wir:\nMenschenfeindlichkeit\, Ausgrenzung und soziale Kürzungen und Gegeneinander-ausspielen dürfen keinen Platz haben. Demokratie heißt widersprechen\, wenn Menschen abgewertet werden. Wir machen da nicht mit. Wir stehen gemeinsam für Anstand\, für Solidarität\, füreinander und sagen: Menschenwürde wählen!  \nDie Demonstration startet um 13 Uhr an der Stadtbücherei / Schwanenteichanlage und zieht gemeinsam durch die Heidelberger Altstadt bis zum Universitätsplatz. Dort erwartet die Teilnehmenden eine lebendige Abschlusskundgebung mit gesprochenen Worten und inhaltlichen Impulsen\, musikalischen Beiträgen sowie Info-Ständen im Rahmen eines Markts der Möglichkeiten. Der Tag soll nicht nur Raum für Protest\, sondern auch für Begegnung und Austausch bieten. Getragen von Stimmen\, Chören und Musik entsteht ein Ort\, an dem Haltung sichtbar und Solidarität spürbar werden soll – mit einem Musik-Act zum Abschluss\, das den Aufstand für Anstand gemeinsam ausklingen lässt. \nSeid dabei. Seid Teil des Aufstands. Und wenn ihr uns finanziell unterstützen möchtet\, spendet gerne über Opencollective. \nHeidelberg bleibt bunt. Heidelberg wählt Menschenwürde.
URL:https://www.akutplusc.org/event/demo-aufstand-fur-anstand/
LOCATION:Schwanenteichanlage\, Poststraße 46\, Heidelberg\, 69115\, Germany
CATEGORIES:Demo
ATTACH;FMTTYPE=image/png:https://www.akutplusc.org/wp-content/uploads/2026/02/Screenshot-2026-02-10-17.49.15-e1770742457370.png
END:VEVENT
END:VCALENDAR